BEGIN:VCALENDAR
VERSION:2.0
PRODID:SchoolNow
CALSCALE:GREGORIAN
BEGIN:VEVENT
UID:94da30f8-467f-11f0-8edc-0a58a9feac02
DTSTAMP:20260421T211013Z
SUMMARY:3rd trimester begins
URL;VALUE=URI:https://www.lahabraschools.org/sierravista/calendar/8283838/3
 rd-trimester-begins
DTSTART;VALUE=DATE:20260223
DTEND;VALUE=DATE:20260224
END:VEVENT
END:VCALENDAR
