BEGIN:VCALENDAR
VERSION:2.0
PRODID:SchoolNow
CALSCALE:GREGORIAN
BEGIN:VEVENT
UID:94da31d4-467f-11f0-98c5-0a58a9feac02
DTSTAMP:20260421T150515Z
SUMMARY:3rd trimester closes
URL;VALUE=URI:https://www.lahabraschools.org/sierravista/calendar/8283839/3
 rd-trimester-closes
DTSTART;VALUE=DATE:20260528
DTEND;VALUE=DATE:20260529
END:VEVENT
END:VCALENDAR
