BEGIN:VCALENDAR
VERSION:2.0
PRODID:SchoolNow
CALSCALE:GREGORIAN
BEGIN:VEVENT
UID:94da32ba-467f-11f0-9825-0a58a9feac02
DTSTAMP:20260421T150515Z
SUMMARY:Final report cards go home
URL;VALUE=URI:https://www.lahabraschools.org/sierravista/calendar/8283840/f
 inal-report-cards-go-home
DTSTART;VALUE=DATE:20260528
DTEND;VALUE=DATE:20260529
END:VEVENT
END:VCALENDAR
