BEGIN:VCALENDAR
VERSION:2.0
PRODID:SchoolNow
CALSCALE:GREGORIAN
BEGIN:VEVENT
UID:94da371a-467f-11f0-84b0-0a58a9feac02
DTSTAMP:20260421T211013Z
SUMMARY:Buck a Book
URL;VALUE=URI:https://www.lahabraschools.org/sierravista/calendar/8283845/b
 uck-a-book
DTSTART;VALUE=DATE:20260114
DTEND;VALUE=DATE:20260115
END:VEVENT
END:VCALENDAR
