BEGIN:VCALENDAR
VERSION:2.0
PRODID:SchoolNow
CALSCALE:GREGORIAN
BEGIN:VEVENT
UID:94da38c8-467f-11f0-b403-0a58a9feac02
DTSTAMP:20260421T150514Z
SUMMARY:Buck a Book
URL;VALUE=URI:https://www.lahabraschools.org/sierravista/calendar/8283847/b
 uck-a-book
DTSTART;VALUE=DATE:20260311
DTEND;VALUE=DATE:20260312
END:VEVENT
END:VCALENDAR
