BEGIN:VCALENDAR
VERSION:2.0
PRODID:SchoolNow
CALSCALE:GREGORIAN
BEGIN:VEVENT
UID:94da39a4-467f-11f0-8f89-0a58a9feac02
DTSTAMP:20260421T150515Z
SUMMARY:Buck a Book
URL;VALUE=URI:https://www.lahabraschools.org/sierravista/calendar/8283848/b
 uck-a-book
DTSTART;VALUE=DATE:20260408
DTEND;VALUE=DATE:20260409
END:VEVENT
END:VCALENDAR
