BEGIN:VCALENDAR
VERSION:2.0
PRODID:SchoolNow
CALSCALE:GREGORIAN
BEGIN:VEVENT
UID:94da3a76-467f-11f0-b2b9-0a58a9feac02
DTSTAMP:20260421T150515Z
SUMMARY:Buck a Book
URL;VALUE=URI:https://www.lahabraschools.org/sierravista/calendar/8283849/b
 uck-a-book
DTSTART;VALUE=DATE:20260513
DTEND;VALUE=DATE:20260514
END:VEVENT
END:VCALENDAR
