BEGIN:VCALENDAR
VERSION:2.0
PRODID:SchoolNow
CALSCALE:GREGORIAN
BEGIN:VEVENT
UID:94fe217a-467f-11f0-9b7c-0a58a9feac02
DTSTAMP:20260424T100014Z
SUMMARY:Kindness shirts
URL;VALUE=URI:https://www.lahabraschools.org/sierravista/calendar/8283850/k
 indness-shirts
DTSTART;VALUE=DATE:20270113
DTEND;VALUE=DATE:20270114
END:VEVENT
END:VCALENDAR
