BEGIN:VCALENDAR
VERSION:2.0
PRODID:SchoolNow
CALSCALE:GREGORIAN
BEGIN:VEVENT
UID:94fe28a0-467f-11f0-bdbb-0a58a9feac02
DTSTAMP:20260424T160514Z
SUMMARY:Kindness shirts
URL;VALUE=URI:https://www.lahabraschools.org/sierravista/calendar/8283854/k
 indness-shirts
DTSTART;VALUE=DATE:20270210
DTEND;VALUE=DATE:20270211
END:VEVENT
END:VCALENDAR
