BEGIN:VCALENDAR
VERSION:2.0
PRODID:SchoolNow
CALSCALE:GREGORIAN
BEGIN:VEVENT
UID:8eccf468-4718-11f0-ba63-0e755dea0bf7
DTSTAMP:20260421T150515Z
SUMMARY:Open House
URL;VALUE=URI:https://www.lahabraschools.org/sierravista/calendar/8288107/o
 pen-house
DTSTART:20260402T000000Z
DTEND:20260402T020000Z
END:VEVENT
END:VCALENDAR
