BEGIN:VCALENDAR
VERSION:2.0
PRODID:SchoolNow
CALSCALE:GREGORIAN
BEGIN:VEVENT
UID:8a68c9c8-474b-11f0-a408-02d37a34ac33
DTSTAMP:20260421T150515Z
SUMMARY:Spring Photo day
URL;VALUE=URI:https://www.lahabraschools.org/sierravista/calendar/8289633/s
 pring-photo-day
DTSTART;VALUE=DATE:20260304
DTEND;VALUE=DATE:20260305
END:VEVENT
END:VCALENDAR
