BEGIN:VCALENDAR
VERSION:2.0
PRODID:SchoolNow
CALSCALE:GREGORIAN
BEGIN:VEVENT
UID:57656ca2-4b47-11f0-866e-0a58a9feac02
DTSTAMP:20260424T160514Z
SUMMARY:Kindness shirts
URL;VALUE=URI:https://www.lahabraschools.org/sierravista/calendar/8313059/k
 indness-shirts
DTSTART;VALUE=DATE:20270217
DTEND;VALUE=DATE:20270218
END:VEVENT
END:VCALENDAR
