BEGIN:VCALENDAR
VERSION:2.0
PRODID:SchoolNow
CALSCALE:GREGORIAN
BEGIN:VEVENT
UID:54c7ce9a-5f65-11f0-836a-027c90d5b19d
DTSTAMP:20260424T160514Z
SUMMARY:Kindness shirts
URL;VALUE=URI:https://www.lahabraschools.org/sierravista/calendar/8408881/k
 indness-shirts
DTSTART;VALUE=DATE:20270224
DTEND;VALUE=DATE:20270225
END:VEVENT
END:VCALENDAR
