BEGIN:VCALENDAR
VERSION:2.0
PRODID:SchoolNow
CALSCALE:GREGORIAN
BEGIN:VEVENT
UID:54c7d278-5f65-11f0-8b02-027c90d5b19d
DTSTAMP:20260424T160514Z
SUMMARY:Kindness shirts
URL;VALUE=URI:https://www.lahabraschools.org/sierravista/calendar/8408882/k
 indness-shirts
DTSTART;VALUE=DATE:20270303
DTEND;VALUE=DATE:20270304
END:VEVENT
END:VCALENDAR
