BEGIN:VCALENDAR
VERSION:2.0
PRODID:SchoolNow
CALSCALE:GREGORIAN
BEGIN:VEVENT
UID:ad608a20-6c57-11f0-b516-0a58a9feac02
DTSTAMP:20260424T160514Z
SUMMARY:Kindness shirts
URL;VALUE=URI:https://www.lahabraschools.org/sierravista/calendar/8454527/k
 indness-shirts
DTSTART;VALUE=DATE:20270317
DTEND;VALUE=DATE:20270318
END:VEVENT
END:VCALENDAR
