BEGIN:VCALENDAR
VERSION:2.0
PRODID:SchoolNow
CALSCALE:GREGORIAN
BEGIN:VEVENT
UID:ad608da4-6c57-11f0-80a0-0a58a9feac02
DTSTAMP:20260424T160514Z
SUMMARY:Kindness shirts
URL;VALUE=URI:https://www.lahabraschools.org/sierravista/calendar/8454528/k
 indness-shirts
DTSTART;VALUE=DATE:20270324
DTEND;VALUE=DATE:20270325
END:VEVENT
END:VCALENDAR
