BEGIN:VCALENDAR
VERSION:2.0
PRODID:SchoolNow
CALSCALE:GREGORIAN
BEGIN:VEVENT
UID:9f036a8c-6d89-11f0-ab1a-0ea6543bc52d
DTSTAMP:20260421T150515Z
SUMMARY:EPIC Season 3 Begins
URL;VALUE=URI:https://www.lahabraschools.org/sierravista/calendar/8458545/e
 pic-season-3-begins
DTSTART;VALUE=DATE:20260323
DTEND;VALUE=DATE:20260324
END:VEVENT
END:VCALENDAR
