BEGIN:VCALENDAR
VERSION:2.0
PRODID:SchoolNow
CALSCALE:GREGORIAN
BEGIN:VEVENT
UID:9f036c3a-6d89-11f0-8094-0ea6543bc52d
DTSTAMP:20260421T150515Z
SUMMARY:EPIC Season 2 ends
URL;VALUE=URI:https://www.lahabraschools.org/sierravista/calendar/8458546/e
 pic-season-2-ends
DTSTART;VALUE=DATE:20260313
DTEND;VALUE=DATE:20260314
END:VEVENT
END:VCALENDAR
