BEGIN:VCALENDAR
VERSION:2.0
PRODID:SchoolNow
CALSCALE:GREGORIAN
BEGIN:VEVENT
UID:9f036d48-6d89-11f0-881d-0ea6543bc52d
DTSTAMP:20260421T150515Z
SUMMARY:EPIC Season 3 Ends
URL;VALUE=URI:https://www.lahabraschools.org/sierravista/calendar/8458547/e
 pic-season-3-ends
DTSTART;VALUE=DATE:20260528
DTEND;VALUE=DATE:20260529
END:VEVENT
END:VCALENDAR
