BEGIN:VCALENDAR
VERSION:2.0
PRODID:SchoolNow
CALSCALE:GREGORIAN
BEGIN:VEVENT
UID:3fffa496-74b5-11f0-9e43-0a58a9feac02
DTSTAMP:20260424T160514Z
SUMMARY:Kindness shirts
URL;VALUE=URI:https://www.lahabraschools.org/sierravista/calendar/8483979/k
 indness-shirts
DTSTART;VALUE=DATE:20270407
DTEND;VALUE=DATE:20270408
END:VEVENT
END:VCALENDAR
