BEGIN:VCALENDAR
VERSION:2.0
PRODID:SchoolNow
CALSCALE:GREGORIAN
BEGIN:VEVENT
UID:09985f6e-78e4-11f0-af7d-0affea52e4e1
DTSTAMP:20260421T211013Z
SUMMARY:Emergency Drill- earthquake
URL;VALUE=URI:https://www.lahabraschools.org/sierravista/calendar/8506855/e
 mergency-drill-earthquake
DTSTART:20260128T211500Z
DTEND:20260128T213000Z
END:VEVENT
END:VCALENDAR
