BEGIN:VCALENDAR
VERSION:2.0
PRODID:SchoolNow
CALSCALE:GREGORIAN
BEGIN:VEVENT
UID:09986054-78e4-11f0-a0cb-0affea52e4e1
DTSTAMP:20260421T211013Z
SUMMARY:Emergency Drill- Lockdown
URL;VALUE=URI:https://www.lahabraschools.org/sierravista/calendar/8506856/e
 mergency-drill-lockdown
DTSTART:20260218T211500Z
DTEND:20260218T213000Z
END:VEVENT
END:VCALENDAR
