BEGIN:VCALENDAR
VERSION:2.0
PRODID:SchoolNow
CALSCALE:GREGORIAN
BEGIN:VEVENT
UID:09986216-78e4-11f0-bfea-0affea52e4e1
DTSTAMP:20260421T150514Z
SUMMARY:Emergency Drill- Earthquake
URL;VALUE=URI:https://www.lahabraschools.org/sierravista/calendar/8506858/e
 mergency-drill-earthquake
DTSTART;VALUE=DATE:20260422
DTEND;VALUE=DATE:20260423
END:VEVENT
END:VCALENDAR
