BEGIN:VCALENDAR
VERSION:2.0
PRODID:SchoolNow
CALSCALE:GREGORIAN
BEGIN:VEVENT
UID:099862fc-78e4-11f0-b02c-0affea52e4e1
DTSTAMP:20260421T150515Z
SUMMARY:Emergency Drill- Lockdown
URL;VALUE=URI:https://www.lahabraschools.org/sierravista/calendar/8506859/e
 mergency-drill-lockdown
DTSTART;VALUE=DATE:20260513
DTEND;VALUE=DATE:20260514
END:VEVENT
END:VCALENDAR
