BEGIN:VCALENDAR
VERSION:2.0
PRODID:SchoolNow
CALSCALE:GREGORIAN
BEGIN:VEVENT
UID:09c52a1c-78e4-11f0-a04a-0affea52e4e1
DTSTAMP:20260424T160514Z
SUMMARY:Kindness shirts
URL;VALUE=URI:https://www.lahabraschools.org/sierravista/calendar/8506860/k
 indness-shirts
DTSTART;VALUE=DATE:20270414
DTEND;VALUE=DATE:20270415
END:VEVENT
END:VCALENDAR
