BEGIN:VCALENDAR
VERSION:2.0
PRODID:SchoolNow
CALSCALE:GREGORIAN
BEGIN:VEVENT
UID:ba349e0a-7f10-11f0-b0b8-0a58a9feac02
DTSTAMP:20260424T160514Z
SUMMARY:Kindness shirts
URL;VALUE=URI:https://www.lahabraschools.org/sierravista/calendar/8531106/k
 indness-shirts
DTSTART;VALUE=DATE:20270421
DTEND;VALUE=DATE:20270422
END:VEVENT
END:VCALENDAR
