BEGIN:VCALENDAR
VERSION:2.0
PRODID:SchoolNow
CALSCALE:GREGORIAN
BEGIN:VEVENT
UID:dc19ac38-82d8-11f0-8315-0a58a9feac02
DTSTAMP:20260421T211013Z
SUMMARY:Saturday School
URL;VALUE=URI:https://www.lahabraschools.org/sierravista/calendar/8547329/s
 aturday-school
DTSTART;VALUE=DATE:20260207
DTEND;VALUE=DATE:20260208
END:VEVENT
END:VCALENDAR
