BEGIN:VCALENDAR
VERSION:2.0
PRODID:SchoolNow
CALSCALE:GREGORIAN
BEGIN:VEVENT
UID:dc19ad46-82d8-11f0-848b-0a58a9feac02
DTSTAMP:20260421T150515Z
SUMMARY:Saturday School
URL;VALUE=URI:https://www.lahabraschools.org/sierravista/calendar/8547330/s
 aturday-school
DTSTART;VALUE=DATE:20260307
DTEND;VALUE=DATE:20260308
END:VEVENT
END:VCALENDAR
