BEGIN:VCALENDAR
VERSION:2.0
PRODID:SchoolNow
CALSCALE:GREGORIAN
BEGIN:VEVENT
UID:ce1680a8-83a4-11f0-9a9d-0a58a9feac02
DTSTAMP:20260421T211013Z
SUMMARY:ELOP Bridge day for students
URL;VALUE=URI:https://www.lahabraschools.org/sierravista/calendar/8551497/e
 lop-bridge-day-for-students
DTSTART;VALUE=DATE:20260105
DTEND;VALUE=DATE:20260106
END:VEVENT
END:VCALENDAR
