BEGIN:VCALENDAR
VERSION:2.0
PRODID:SchoolNow
CALSCALE:GREGORIAN
BEGIN:VEVENT
UID:ce16824c-83a4-11f0-9395-0a58a9feac02
DTSTAMP:20260421T150515Z
SUMMARY:ELOP Bridge day for students
URL;VALUE=URI:https://www.lahabraschools.org/sierravista/calendar/8551498/e
 lop-bridge-day-for-students
DTSTART;VALUE=DATE:20260316
DTEND;VALUE=DATE:20260321
END:VEVENT
END:VCALENDAR
