BEGIN:VCALENDAR
VERSION:2.0
PRODID:SchoolNow
CALSCALE:GREGORIAN
BEGIN:VEVENT
UID:ce1eb8a4-83a4-11f0-a23e-0a58a9feac02
DTSTAMP:20260424T160514Z
SUMMARY:Kindness shirts
URL;VALUE=URI:https://www.lahabraschools.org/sierravista/calendar/8551499/k
 indness-shirts
DTSTART;VALUE=DATE:20270428
DTEND;VALUE=DATE:20270429
END:VEVENT
END:VCALENDAR
