BEGIN:VCALENDAR
VERSION:2.0
PRODID:SchoolNow
CALSCALE:GREGORIAN
BEGIN:VEVENT
UID:80516386-8a04-11f0-9c40-0a58a9feac02
DTSTAMP:20260424T160514Z
SUMMARY:Kindness shirts
URL;VALUE=URI:https://www.lahabraschools.org/sierravista/calendar/8582610/k
 indness-shirts
DTSTART;VALUE=DATE:20270505
DTEND;VALUE=DATE:20270506
END:VEVENT
END:VCALENDAR
