BEGIN:VCALENDAR
VERSION:2.0
PRODID:SchoolNow
CALSCALE:GREGORIAN
BEGIN:VEVENT
UID:6ccedfba-8ad0-11f0-aa60-0a58a9feac02
DTSTAMP:20260421T150515Z
SUMMARY:WMS Food Distribution 10:30-11:30
URL;VALUE=URI:https://www.lahabraschools.org/sierravista/calendar/8586422/w
 ms-food-distribution-10-30-11-30
DTSTART;VALUE=DATE:20260422
DTEND;VALUE=DATE:20260423
END:VEVENT
END:VCALENDAR
