BEGIN:VCALENDAR
VERSION:2.0
PRODID:SchoolNow
CALSCALE:GREGORIAN
BEGIN:VEVENT
UID:6ccee17c-8ad0-11f0-bc81-0a58a9feac02
DTSTAMP:20260421T211013Z
SUMMARY:WMS Food Distribution 10:30-11:30
URL;VALUE=URI:https://www.lahabraschools.org/sierravista/calendar/8586424/w
 ms-food-distribution-10-30-11-30
DTSTART;VALUE=DATE:20260624
DTEND;VALUE=DATE:20260625
END:VEVENT
END:VCALENDAR
