BEGIN:VCALENDAR
VERSION:2.0
PRODID:SchoolNow
CALSCALE:GREGORIAN
BEGIN:VEVENT
UID:6ccee41a-8ad0-11f0-aef7-0a58a9feac02
DTSTAMP:20260421T150515Z
SUMMARY:DELAC #4
LOCATION:DO - Curriculum Center
URL;VALUE=URI:https://www.lahabraschools.org/sierravista/calendar/8586427/d
 elac-4
DTSTART:20260417T160000Z
DTEND:20260417T170000Z
END:VEVENT
END:VCALENDAR
