BEGIN:VCALENDAR
VERSION:2.0
PRODID:SchoolNow
CALSCALE:GREGORIAN
BEGIN:VEVENT
UID:303067aa-8f98-11f0-a06e-022148221eeb
DTSTAMP:20260424T160514Z
SUMMARY:Kindness shirts
URL;VALUE=URI:https://www.lahabraschools.org/sierravista/calendar/8611850/k
 indness-shirts
DTSTART;VALUE=DATE:20270512
DTEND;VALUE=DATE:20270513
END:VEVENT
END:VCALENDAR
