BEGIN:VCALENDAR
VERSION:2.0
PRODID:SchoolNow
CALSCALE:GREGORIAN
BEGIN:VEVENT
UID:c07a2fba-9828-11f0-aa6c-0a58a9feac02
DTSTAMP:20260424T160514Z
SUMMARY:Kindness shirts
URL;VALUE=URI:https://www.lahabraschools.org/sierravista/calendar/8654498/k
 indness-shirts
DTSTART;VALUE=DATE:20270519
DTEND;VALUE=DATE:20270520
END:VEVENT
END:VCALENDAR
