BEGIN:VCALENDAR
VERSION:2.0
PRODID:SchoolNow
CALSCALE:GREGORIAN
BEGIN:VEVENT
UID:a021dd60-9a8c-11f0-b9e7-02be5f4c6a95
DTSTAMP:20260424T160514Z
SUMMARY:Kindness shirts
URL;VALUE=URI:https://www.lahabraschools.org/sierravista/calendar/8665169/k
 indness-shirts
DTSTART;VALUE=DATE:20270526
DTEND;VALUE=DATE:20270527
END:VEVENT
END:VCALENDAR
