BEGIN:VCALENDAR
VERSION:2.0
PRODID:SchoolNow
CALSCALE:GREGORIAN
BEGIN:VEVENT
UID:530455e4-a086-11f0-852e-0a58a9feac02
DTSTAMP:20260424T221013Z
SUMMARY:Kindness shirts
URL;VALUE=URI:https://www.lahabraschools.org/sierravista/calendar/8691500/k
 indness-shirts
DTSTART;VALUE=DATE:20270602
DTEND;VALUE=DATE:20270603
END:VEVENT
END:VCALENDAR
