BEGIN:VCALENDAR
VERSION:2.0
PRODID:SchoolNow
CALSCALE:GREGORIAN
BEGIN:VEVENT
UID:117c0fd0-a5b4-11f0-9e2b-0a58a9feac02
DTSTAMP:20260424T221013Z
SUMMARY:Kindness shirts
URL;VALUE=URI:https://www.lahabraschools.org/sierravista/calendar/8710822/k
 indness-shirts
DTSTART;VALUE=DATE:20270609
DTEND;VALUE=DATE:20270610
END:VEVENT
END:VCALENDAR
