BEGIN:VCALENDAR
VERSION:2.0
PRODID:SchoolNow
CALSCALE:GREGORIAN
BEGIN:VEVENT
UID:c744c4e4-ab7a-11f0-9671-0e1f5731249f
DTSTAMP:20260424T221013Z
SUMMARY:Kindness shirts
URL;VALUE=URI:https://www.lahabraschools.org/sierravista/calendar/8729602/k
 indness-shirts
DTSTART;VALUE=DATE:20270616
DTEND;VALUE=DATE:20270617
END:VEVENT
END:VCALENDAR
