BEGIN:VCALENDAR
VERSION:2.0
PRODID:SchoolNow
CALSCALE:GREGORIAN
BEGIN:VEVENT
UID:ae89072c-b05b-11f0-bacb-0a58a9feac02
DTSTAMP:20260421T211013Z
SUMMARY:2nd payment due for science camp
URL;VALUE=URI:https://www.lahabraschools.org/sierravista/calendar/8745526/2
 nd-payment-due-for-science-camp
DTSTART;VALUE=DATE:20260130
DTEND;VALUE=DATE:20260131
END:VEVENT
END:VCALENDAR
