BEGIN:VCALENDAR
VERSION:2.0
PRODID:SchoolNow
CALSCALE:GREGORIAN
BEGIN:VEVENT
UID:ae8928ba-b05b-11f0-9755-0a58a9feac02
DTSTAMP:20260421T150514Z
SUMMARY:Final camp payment due for 6th $120
URL;VALUE=URI:https://www.lahabraschools.org/sierravista/calendar/8745527/f
 inal-camp-payment-due-for-6th-120
DTSTART;VALUE=DATE:20260306
DTEND;VALUE=DATE:20260307
END:VEVENT
END:VCALENDAR
