BEGIN:VCALENDAR
VERSION:2.0
PRODID:SchoolNow
CALSCALE:GREGORIAN
BEGIN:VEVENT
UID:ae8e9278-b05b-11f0-a2c3-0a58a9feac02
DTSTAMP:20260424T221013Z
SUMMARY:Kindness shirts
URL;VALUE=URI:https://www.lahabraschools.org/sierravista/calendar/8745528/k
 indness-shirts
DTSTART;VALUE=DATE:20270623
DTEND;VALUE=DATE:20270624
END:VEVENT
END:VCALENDAR
