BEGIN:VCALENDAR
VERSION:2.0
PRODID:SchoolNow
CALSCALE:GREGORIAN
BEGIN:VEVENT
UID:45b99aa6-b8ec-11f0-9271-0a58a9feac02
DTSTAMP:20260424T221013Z
SUMMARY:Kindness shirts
URL;VALUE=URI:https://www.lahabraschools.org/sierravista/calendar/8771170/k
 indness-shirts
DTSTART;VALUE=DATE:20270630
DTEND;VALUE=DATE:20270701
END:VEVENT
END:VCALENDAR
