BEGIN:VCALENDAR
VERSION:2.0
PRODID:SchoolNow
CALSCALE:GREGORIAN
BEGIN:VEVENT
UID:55ae1d06-cc0b-11f0-ad93-0a58a9feac02
DTSTAMP:20260424T221013Z
SUMMARY:Kindness shirts
URL;VALUE=URI:https://www.lahabraschools.org/sierravista/calendar/8811096/k
 indness-shirts
DTSTART;VALUE=DATE:20270728
DTEND;VALUE=DATE:20270729
END:VEVENT
END:VCALENDAR
