BEGIN:VCALENDAR
VERSION:2.0
PRODID:SchoolNow
CALSCALE:GREGORIAN
BEGIN:VEVENT
UID:1645a892-d0d3-11f0-8702-02596d13545d
DTSTAMP:20260424T221013Z
SUMMARY:Kindness shirts
URL;VALUE=URI:https://www.lahabraschools.org/sierravista/calendar/8817148/k
 indness-shirts
DTSTART;VALUE=DATE:20270804
DTEND;VALUE=DATE:20270805
END:VEVENT
END:VCALENDAR
