BEGIN:VCALENDAR
VERSION:2.0
PRODID:SchoolNow
CALSCALE:GREGORIAN
BEGIN:VEVENT
UID:d05908ae-d633-11f0-96b2-02026490ab79
DTSTAMP:20260424T221013Z
SUMMARY:Kindness shirts
URL;VALUE=URI:https://www.lahabraschools.org/sierravista/calendar/8821516/k
 indness-shirts
DTSTART;VALUE=DATE:20270811
DTEND;VALUE=DATE:20270812
END:VEVENT
END:VCALENDAR
