BEGIN:VCALENDAR
VERSION:2.0
PRODID:SchoolNow
CALSCALE:GREGORIAN
BEGIN:VEVENT
UID:78ec9916-dbc7-11f0-9135-0a58a9feac02
DTSTAMP:20260424T221013Z
SUMMARY:Kindness shirts
URL;VALUE=URI:https://www.lahabraschools.org/sierravista/calendar/8825619/k
 indness-shirts
DTSTART;VALUE=DATE:20270818
DTEND;VALUE=DATE:20270819
END:VEVENT
END:VCALENDAR
