BEGIN:VCALENDAR
VERSION:2.0
PRODID:SchoolNow
CALSCALE:GREGORIAN
BEGIN:VEVENT
UID:30d591bc-e128-11f0-9879-0257aae133fb
DTSTAMP:20260424T221013Z
SUMMARY:Kindness shirts
URL;VALUE=URI:https://www.lahabraschools.org/sierravista/calendar/8827217/k
 indness-shirts
DTSTART;VALUE=DATE:20270825
DTEND;VALUE=DATE:20270826
END:VEVENT
END:VCALENDAR
